BEGIN:VCALENDAR
VERSION:2.0
PRODID:-//eventon.com NONSGML v1.0//EN
CALSCALE:GREGORIAN
METHOD:PUBLISH
BEGIN:VEVENT
UID:69eb2efa525cc
DTSTAMP:20260424T085106Z
DTSTART:20250325T133000Z
DTEND:20250325T180000Z
LOCATION:
SUMMARY:Rentri\,  RAEE e gestione dei rifiuti
DESCRIPTION:E’ in partenza “Upskilling Termoidraulica”  l’iniziat
 iva formativa di aggiornamento professionale pensato per te. Un percorso a 
 tappe per raggiungere nuove competenze e implementare la tua professionalit
 à. È possibile partecipare ad una delle edizioni in programma che si terr
 anno in simultanea nelle sedi Confartigianato di: Andria &#8211; Bari – B
 rindisi – Conversano[..]\nhttps://confartigianatobari.it/events/upskillin
 g-termoidraulica-25-03-25/
URL:https://confartigianatobari.it/events/upskilling-termoidraulica-25-03-25/
END:VEVENT
END:VCALENDAR